BEGIN:VCALENDAR
VERSION:2.0
PRODID:-//nswrugbyreferees - ECPv6.15.20//NONSGML v1.0//EN
CALSCALE:GREGORIAN
METHOD:PUBLISH
X-ORIGINAL-URL:https://nswrugbyreferees.com.au
X-WR-CALDESC:Events for nswrugbyreferees
REFRESH-INTERVAL;VALUE=DURATION:PT1H
X-Robots-Tag:noindex
X-PUBLISHED-TTL:PT1H
BEGIN:VTIMEZONE
TZID:Australia/Melbourne
BEGIN:STANDARD
TZOFFSETFROM:+1100
TZOFFSETTO:+1000
TZNAME:AEST
DTSTART:20240406T160000
END:STANDARD
BEGIN:DAYLIGHT
TZOFFSETFROM:+1000
TZOFFSETTO:+1100
TZNAME:AEDT
DTSTART:20241005T160000
END:DAYLIGHT
BEGIN:STANDARD
TZOFFSETFROM:+1100
TZOFFSETTO:+1000
TZNAME:AEST
DTSTART:20250405T160000
END:STANDARD
BEGIN:DAYLIGHT
TZOFFSETFROM:+1000
TZOFFSETTO:+1100
TZNAME:AEDT
DTSTART:20251004T160000
END:DAYLIGHT
BEGIN:STANDARD
TZOFFSETFROM:+1100
TZOFFSETTO:+1000
TZNAME:AEST
DTSTART:20260404T160000
END:STANDARD
BEGIN:DAYLIGHT
TZOFFSETFROM:+1000
TZOFFSETTO:+1100
TZNAME:AEDT
DTSTART:20261003T160000
END:DAYLIGHT
END:VTIMEZONE
BEGIN:VEVENT
DTSTART;TZID=Australia/Melbourne:20251112T183000
DTEND;TZID=Australia/Melbourne:20251112T193000
DTSTAMP:20260420T184155
CREATED:20251109T090927Z
LAST-MODIFIED:20251109T090927Z
UID:66077-1762972200-1762975800@nswrugbyreferees.com.au
SUMMARY:Fitness Training - 2025-11-12
DESCRIPTION:Fitness training begins Wednesday evening 6:30pm\, 12th November at Shore Sports Grounds\, Northbridge. It will run each Wednesday evening through until 17th December when it will pause for Christmas/New Year break. It will resume again 7th January 2025 \nTraining is organised by NSWRRA. Members of Sydney North Referees and Sydney West Rugby Referees Association are welcome to join along.
URL:https://nswrugbyreferees.com.au/event/fitness-training-2025-11-12/
LOCATION:Shore Playing Fields Northbridge\, Sailors Bay Road\, Northbridge\, NSW\, 2063\, Australia
CATEGORIES:Fitness Training
ATTACH;FMTTYPE=image/jpeg:https://nswrugbyreferees.com.au/wp-content/uploads/2020/10/NSWRRA_training06102020_010.jpg
END:VEVENT
BEGIN:VEVENT
DTSTART;TZID=Australia/Melbourne:20251113T190000
DTEND;TZID=Australia/Melbourne:20251113T203000
DTSTAMP:20260420T184155
CREATED:20250203T051530Z
LAST-MODIFIED:20251105T043542Z
UID:64946-1763060400-1763065800@nswrugbyreferees.com.au
SUMMARY:2025 Annual General Meeting
DESCRIPTION:NSWRRA Annual General Meeting will be held at 7pm on Thursday 13th November at NSWRU Headquarters in Daceyville \nAGENDA \n1. Welcome.2. Apologies.3. Minutes of Previous Annual General Meeting.4. President’s Report.5. Treasurer’s Report.6. Voting of Life Member Nomination(s).7. Election of Patron.8. Election of Office Bearers:(i) President.(ii) Treasurer.(iii) Secretary.(iv) General Member(s).(v) Honorary Auditor.(vi) Honorary Legal Advisor.9. General Business.(i) Determination of Annual Subscription.(ii) Other General business. \nLink to office bearers nomination form \nCompleted nominations (which include the signatures of the nominator and seconder) for elected positions must be received in writing by the Secretary\, Rob McKay\, by email secretary@nswrugbyreferees.com.au no later than 5.00pm Thursday 6th November 2025. \nThose attending in person are requested to RSVP to secretary@nswrugbyreferees.com.au \nFor members unable to attend in person\, check your email for notice of meeting which contains a MS Teams link to join remotely.
URL:https://nswrugbyreferees.com.au/event/2025-annual-general-meeting/
LOCATION:NSW Rugby Union\, The David Phillips Sports Complex\, Corner of Cook & Gwea Avenues\, Daceyville\, NSW\, 2032\, Australia
CATEGORIES:Association Meeting
ATTACH;FMTTYPE=image/jpeg:https://nswrugbyreferees.com.au/wp-content/uploads/2020/02/IMG_4081.jpg
END:VEVENT
BEGIN:VEVENT
DTSTART;TZID=Australia/Melbourne:20251119T183000
DTEND;TZID=Australia/Melbourne:20251119T193000
DTSTAMP:20260420T184155
CREATED:20251109T091545Z
LAST-MODIFIED:20251109T091734Z
UID:66079-1763577000-1763580600@nswrugbyreferees.com.au
SUMMARY:Fitness Training - 2025-11-19
DESCRIPTION:Fitness training continues each Wednesday evening from 6:30pm at Shore Sports Grounds\, Northbridge. It will run each Wednesday evening through until 17th December when it will pause for Christmas/New Year break. It will resume again 7th January 2025 \nTraining is organised by NSWRRA. Members of Sydney North Referees and Sydney West Rugby Referees Association are welcome to join along. \n 
URL:https://nswrugbyreferees.com.au/event/fitness-training-2025-11-19/
LOCATION:Shore Playing Fields Northbridge\, Sailors Bay Road\, Northbridge\, NSW\, 2063\, Australia
CATEGORIES:Fitness Training
ATTACH;FMTTYPE=image/jpeg:https://nswrugbyreferees.com.au/wp-content/uploads/2020/10/NSWRRA_training06102020_010.jpg
END:VEVENT
BEGIN:VEVENT
DTSTART;TZID=Australia/Melbourne:20251126T183000
DTEND;TZID=Australia/Melbourne:20251126T193000
DTSTAMP:20260420T184155
CREATED:20251109T091707Z
LAST-MODIFIED:20251109T091707Z
UID:66082-1764181800-1764185400@nswrugbyreferees.com.au
SUMMARY:Fitness Training - 2025-11-26
DESCRIPTION:Fitness training continues each Wednesday evening from 6:30pm at Shore Sports Grounds\, Northbridge. It will run each Wednesday evening through until 17th December when it will pause for Christmas/New Year break. It will resume again 7th January 2025 \nTraining is organised by NSWRRA. Members of Sydney North Referees and Sydney West Rugby Referees Association are welcome to join along.
URL:https://nswrugbyreferees.com.au/event/fitness-training-2025-11-26/
LOCATION:Shore Playing Fields Northbridge\, Sailors Bay Road\, Northbridge\, NSW\, 2063\, Australia
CATEGORIES:Fitness Training
ATTACH;FMTTYPE=image/jpeg:https://nswrugbyreferees.com.au/wp-content/uploads/2020/10/NSWRRA_training06102020_010.jpg
END:VEVENT
END:VCALENDAR